BEGIN:VCALENDAR
VERSION:2.0
PRODID:-//Woodbridge Jewelery Exchange - ECPv6.15.20//NONSGML v1.0//EN
CALSCALE:GREGORIAN
METHOD:PUBLISH
X-ORIGINAL-URL:https://www.woodbridgejewelry.com
X-WR-CALDESC:Events for Woodbridge Jewelery Exchange
REFRESH-INTERVAL;VALUE=DURATION:PT1H
X-Robots-Tag:noindex
X-PUBLISHED-TTL:PT1H
BEGIN:VTIMEZONE
TZID:America/New_York
BEGIN:DAYLIGHT
TZOFFSETFROM:-0500
TZOFFSETTO:-0400
TZNAME:EDT
DTSTART:20180311T070000
END:DAYLIGHT
BEGIN:STANDARD
TZOFFSETFROM:-0400
TZOFFSETTO:-0500
TZNAME:EST
DTSTART:20181104T060000
END:STANDARD
BEGIN:DAYLIGHT
TZOFFSETFROM:-0500
TZOFFSETTO:-0400
TZNAME:EDT
DTSTART:20190310T070000
END:DAYLIGHT
BEGIN:STANDARD
TZOFFSETFROM:-0400
TZOFFSETTO:-0500
TZNAME:EST
DTSTART:20191103T060000
END:STANDARD
BEGIN:DAYLIGHT
TZOFFSETFROM:-0500
TZOFFSETTO:-0400
TZNAME:EDT
DTSTART:20200308T070000
END:DAYLIGHT
BEGIN:STANDARD
TZOFFSETFROM:-0400
TZOFFSETTO:-0500
TZNAME:EST
DTSTART:20201101T060000
END:STANDARD
END:VTIMEZONE
BEGIN:VEVENT
DTSTART;TZID=America/New_York:20190428T120000
DTEND;TZID=America/New_York:20190428T170000
DTSTAMP:20260421T050727
CREATED:20190116T183116Z
LAST-MODIFIED:20190410T191812Z
UID:168-1556452800-1556470800@www.woodbridgejewelry.com
SUMMARY:Bridal & Wedding Expo
DESCRIPTION:JOIN US AT THE BRIDAL & WEDDING EXPO AND REGISTER TO WIN A $500 GIFT CERTIFICATE TO THE WOODBRIDGE JEWELRY EXCHANGE
URL:https://www.woodbridgejewelry.com/event/event-title/
LOCATION:NJ Convention & Expo Center\, 97 Sunfield Avenue\, Edison\, NJ\, 08837
CATEGORIES:Wedding Expo
END:VEVENT
END:VCALENDAR